BEGIN:VCALENDAR
VERSION:2.0
PRODID:-//ChamberMaster//Event Calendar 2.0//EN
METHOD:PUBLISH
X-PUBLISHED-TTL:P3D
REFRESH-INTERVAL:P3D
CALSCALE:GREGORIAN
BEGIN:VEVENT
DTSTART:20251012T170000Z
DTEND:20251012T200000Z
X-MICROSOFT-CDO-ALLDAYEVENT:FALSE
SUMMARY:Tomorrow's Rainbow Pony Jail 'n Bale
DESCRIPTION:Pony Jail 'n Bale is a lively western-themed event held at the Tomorrow's Rainbow mini-ranch in Coconut Creek\, FL. This fun-filled day offers something for the entire family\, with live music\, games\, inflatables\, delicious food\, and creative photo opportunities at our famous #SelfieRow\, where you can snap selfies in western-inspired vignettes. Get to know our horses\, big and small\, donkeys\, and goats\, and help us raise "bale" for our Very Important Partners who are supporting our organization by being jailed with one of our mini horses until they can raise "bale." Also\, as an extra treat for the kids\, we have a special celebrity guest this year\, a red\, fuzzy one your kids won't want to miss. Come on down to our mini ranch on October 12th to find out who! $20 per person includes all food\, drinks\, and games. Proceeds go towards supporting our mission of nurturing emotional wellness and resiliency for children\, teens\, and families experiencing grief\, loss\, or trauma.?
X-ALT-DESC;FMTTYPE=text/html:Pony Jail &#39\;n Bale is a lively western-themed event held at the Tomorrow&#39\;s Rainbow mini-ranch in Coconut Creek\, FL. This fun-filled day offers something for the entire family\, with live music\, games\, inflatables\, delicious food\, and creative photo opportunities at our famous #SelfieRow\, where you can snap selfies in western-inspired vignettes. Get to know our horses\, big and small\, donkeys\, and goats\, and help us raise &quot\;bale&quot\; for our Very Important Partners who are supporting our organization by being jailed with one of our mini horses until they can raise &quot\;bale.&quot\; Also\, as an extra treat for the kids\, we have a special celebrity guest this year\, a red\, fuzzy one your kids won&#39\;t want to miss. Come on down to our mini ranch on October 12th to find out who! $20 per person includes all food\, drinks\, and games. Proceeds go towards supporting our mission of nurturing emotional wellness and resiliency for children\, teens\, and families experiencing grief\, loss\, or trauma.?
LOCATION:Tomorrow's Rainbow Mini-Ranch 4341 NW 39th Ave\, Coconut Creek\, FL 33073
UID:e.52.20215
SEQUENCE:3
DTSTAMP:20260421T085705Z
URL:http://members.csrchamber.com/events/details/tomorrow-s-rainbow-pony-jail-n-bale-20215
END:VEVENT

END:VCALENDAR
